BEGIN:VCALENDAR
VERSION:2.0
PRODID:-//Samonte Fight Performance - ECPv6.15.20//NONSGML v1.0//EN
CALSCALE:GREGORIAN
METHOD:PUBLISH
X-WR-CALNAME:Samonte Fight Performance
X-ORIGINAL-URL:https://samonte.de
X-WR-CALDESC:Veranstaltungen für Samonte Fight Performance
REFRESH-INTERVAL;VALUE=DURATION:PT1H
X-Robots-Tag:noindex
X-PUBLISHED-TTL:PT1H
BEGIN:VTIMEZONE
TZID:Europe/Berlin
BEGIN:DAYLIGHT
TZOFFSETFROM:+0100
TZOFFSETTO:+0200
TZNAME:CEST
DTSTART:20240331T010000
END:DAYLIGHT
BEGIN:STANDARD
TZOFFSETFROM:+0200
TZOFFSETTO:+0100
TZNAME:CET
DTSTART:20241027T010000
END:STANDARD
BEGIN:DAYLIGHT
TZOFFSETFROM:+0100
TZOFFSETTO:+0200
TZNAME:CEST
DTSTART:20250330T010000
END:DAYLIGHT
BEGIN:STANDARD
TZOFFSETFROM:+0200
TZOFFSETTO:+0100
TZNAME:CET
DTSTART:20251026T010000
END:STANDARD
BEGIN:DAYLIGHT
TZOFFSETFROM:+0100
TZOFFSETTO:+0200
TZNAME:CEST
DTSTART:20260329T010000
END:DAYLIGHT
BEGIN:STANDARD
TZOFFSETFROM:+0200
TZOFFSETTO:+0100
TZNAME:CET
DTSTART:20261025T010000
END:STANDARD
END:VTIMEZONE
BEGIN:VEVENT
DTSTART;TZID=Europe/Berlin:20251018T150000
DTEND;TZID=Europe/Berlin:20251018T235900
DTSTAMP:20260423T080928
CREATED:20250825T102020Z
LAST-MODIFIED:20251015T142930Z
UID:3905-1760799600-1760831940@samonte.de
SUMMARY:Duisburg Fights No4
DESCRIPTION:Leider müssen wir aus organisatorischen Gründen die Duisburg Fights 4 verschieben. \nNeuer Termin: 18.10.2025 \nAlle Tickets behalten selbstverständlich ihre Gültigkeit.
URL:https://samonte.de/event/duisburg-fights-no4/
LOCATION:DOJO Samonte Fight Performance\, Wanheimer Str. 393\, 47055 Duisburg\, Deutschland
CATEGORIES:Samonte Fight Performance
ATTACH;FMTTYPE=image/webp:https://samonte.de/wp-content/uploads/2025/08/Samonte-Duisburg-Fights-No-4-13-09-2025.webp
END:VEVENT
END:VCALENDAR